BEGIN:VCALENDAR
VERSION:2.0
PRODID:-//icalendar//https://icalendar.readthedocs.io//
BEGIN:VEVENT
SUMMARY:Playing (games) on Linux
DTSTART;TZID=Europe/Berlin:20260502T104500
DTEND;TZID=Europe/Berlin:20260502T113000
DESCRIPTION:Was braucht man unter Linux um Computerspiele zu genießen?\n\
 nhttps://luga.de/static/LIT-2026/talks/playing_games_on_linux/
LOCATION:Raum A\; Technische Hochschule Augsburg\, Fakultät für Informat
 ik\, Friedberger Straße 2
ORGANIZER;CN="LUGA (Linux User Group Augsburg)":MAILTO:lit-2026@luga.de
BEGIN:VALARM
ACTION:DISPLAY
DESCRIPTION:Veranstaltung in 15 Minuten
TRIGGER:-PT15M
END:VALARM
END:VEVENT
END:VCALENDAR
