BEGIN:VCALENDAR
VERSION:2.0
PRODID:-//icalendar//https://icalendar.readthedocs.io//
BEGIN:VEVENT
SUMMARY:Linux Treiber Workshop
DTSTART;TZID=Europe/Berlin:20260502T131500
DTEND;TZID=Europe/Berlin:20260502T170000
DESCRIPTION:Dieser Workshop gibt einen ersten kleinen Einblick in die Linu
 x Treiber Programmierung. Ziel ist es eine 7 Segment Anzeige über einen k
 leinen Linux Treiber auf einem Raspberry Pi anzusteuern.\n\nDer Workshop i
 st interaktiv und das gelernte Wissen kann sofort angewendet werden. Benö
 tigt wird nur ein Laptop\, die Raspberry Pis und weitere Hardware werden g
 estellt.\n\nhttps://luga.de/static/LIT-2026/talks/linux_treiber_workshop/
LOCATION:Raum F\; Technische Hochschule Augsburg\, Fakultät für Informat
 ik\, Friedberger Straße 2
ORGANIZER;CN="LUGA (Linux User Group Augsburg)":MAILTO:lit-2026@luga.de
BEGIN:VALARM
ACTION:DISPLAY
DESCRIPTION:Veranstaltung in 15 Minuten
TRIGGER:-PT15M
END:VALARM
END:VEVENT
END:VCALENDAR
