BEGIN:VCALENDAR
VERSION:2.0
PRODID:-//icalendar//https://icalendar.readthedocs.io//
BEGIN:VEVENT
SUMMARY:jj - A fresh approach for version management
DTSTART;TZID=Europe/Berlin:20260502T151500
DTEND;TZID=Europe/Berlin:20260502T160000
DESCRIPTION:Der Talk wird [jj](https://www.jj-vcs.dev/latest/) vorstellen.
  Ein Version Control System. Es werden keine vorherigen Kentnisse erwartet
 \, aber Grundverständnis von Programmieren ist nützlich um die Beispiele
  nachzuvollziehen.\n\nhttps://luga.de/static/LIT-2026/talks/jj_a_fresh_app
 roach_for_version_management/
LOCATION:Raum C\; Technische Hochschule Augsburg\, Fakultät für Informat
 ik\, Friedberger Straße 2
ORGANIZER;CN="LUGA (Linux User Group Augsburg)":MAILTO:lit-2026@luga.de
BEGIN:VALARM
ACTION:DISPLAY
DESCRIPTION:Veranstaltung in 15 Minuten
TRIGGER:-PT15M
END:VALARM
END:VEVENT
END:VCALENDAR
