BEGIN:VCALENDAR
VERSION:2.0
PRODID:-//icalendar//https://icalendar.readthedocs.io//
BEGIN:VEVENT
SUMMARY:Ein vollständiges Backup
DTSTART;TZID=Europe/Berlin:20260502T151500
DTEND;TZID=Europe/Berlin:20260502T160000
DESCRIPTION:Nach meinen Vorträgen zu Linux\, Sicherheit\, Filesystemen un
 d Überlegungen \nfür ein gutes Backup stelle ich als Ergebnis ein automa
 tisches\, vollständiges Backup vor\, \ndas alle Anforderungen aus den Vor
 trägen erfüllt.\n\nhttps://luga.de/static/LIT-2026/talks/ein_vollstandig
 es_backup/
LOCATION:Raum D\; Technische Hochschule Augsburg\, Fakultät für Informat
 ik\, Friedberger Straße 2
ORGANIZER;CN="LUGA (Linux User Group Augsburg)":MAILTO:lit-2026@luga.de
BEGIN:VALARM
ACTION:DISPLAY
DESCRIPTION:Veranstaltung in 15 Minuten
TRIGGER:-PT15M
END:VALARM
END:VEVENT
END:VCALENDAR
