BEGIN:VCALENDAR
X-LOTUS-CHARSET:UTF-8
VERSION:2.0
PRODID:ZMS-Berlin
BEGIN:VTIMEZONE
TZID:Europe/Berlin
X-LIC-LOCATION:Europe/Berlin
BEGIN:DAYLIGHT
TZOFFSETFROM:+0100
TZOFFSETTO:+0200
TZNAME:CEST
DTSTART:19700329T020000
RRULE:FREQ=YEARLY;INTERVAL=1;BYDAY=-1SU;BYMONTH=3
END:DAYLIGHT
BEGIN:STANDARD
TZOFFSETFROM:+0200
TZOFFSETTO:+0100
TZNAME:CET
DTSTART:19701025T030000
RRULE:FREQ=YEARLY;INTERVAL=1;BYDAY=-1SU;BYMONTH=10
END:STANDARD
END:VTIMEZONE
METHOD:REQUEST
BEGIN:VEVENT
UID:ics.terminsysteme.de1776604529
DTSTAMP:20260419T151529
CLASS:PUBLIC
DTSTART;TZID=Europe/Berlin:20260502T093000
DTEND;TZID=Europe/Berlin:20260502T170000
LOCATION:Technische Hochschule Augsburg, Fakultät für Informatik, Friedberger Straße 2
SUMMARY:Augsburger Linux-Infotag 2026
DESCRIPTION:Auf dem Linux-Infotag können sich Neulinge einen Überblick über die Anwendungsmöglichkeiten von Linux und Open-Source-Software verschaffen und fortgeschrittene Nutzer:innen können sich durch den Einblick in neue Entwicklungen inspirieren lassen. Projektstände bieten die Möglichkeit zum direkten Kontakt zwischen Entwickler:innen, Protagonist:innen und Anwender:innen. Außerdem wird der Bogen zu allgemeineren Themen wie Kunst und digitale Gesellschaft gespannt.\n\n---\nWebseite: https://luga.de/LIT-2026/
BEGIN:VALARM
ACTION:DISPLAY
TRIGGER:-PT1440M
DESCRIPTION:Erinnerung
END:VALARM
END:VEVENT
END:VCALENDAR
